Package: tigre Version: 1.52.0 Command: rm -rf tigre.buildbin-libdir && mkdir tigre.buildbin-libdir && F:\biocbuild\bbs-3.16-bioc\R\bin\R.exe CMD INSTALL --build --library=tigre.buildbin-libdir tigre_1.52.0.tar.gz StartedAt: 2023-04-11 08:54:31 -0400 (Tue, 11 Apr 2023) EndedAt: 2023-04-11 08:55:09 -0400 (Tue, 11 Apr 2023) EllapsedTime: 37.7 seconds RetCode: 0 Status: OK PackageFile: tigre_1.52.0.zip PackageFileSize: 968.2 KiB