Package: tigre Version: 1.52.0 Command: /home/biocbuild/bbs-3.16-bioc/R/bin/R CMD check --install=check:tigre.install-out.txt --library=/home/biocbuild/bbs-3.16-bioc/R/site-library --timings tigre_1.52.0.tar.gz StartedAt: 2023-04-11 00:32:35 -0400 (Tue, 11 Apr 2023) EndedAt: 2023-04-11 00:40:51 -0400 (Tue, 11 Apr 2023) EllapsedTime: 495.4 seconds RetCode: 0 Status: OK CheckDir: tigre.Rcheck Warnings: 0