Package: tigre Version: 1.52.0 Command: /Library/Frameworks/R.framework/Resources/bin/R CMD check --install=check:tigre.install-out.txt --library=/Library/Frameworks/R.framework/Resources/library --no-vignettes --timings tigre_1.52.0.tar.gz StartedAt: 2023-04-10 23:05:31 -0400 (Mon, 10 Apr 2023) EndedAt: 2023-04-10 23:07:42 -0400 (Mon, 10 Apr 2023) EllapsedTime: 130.9 seconds RetCode: 0 Status: OK CheckDir: tigre.Rcheck Warnings: 0