Package: tigre Version: 1.51.0 Command: /Library/Frameworks/R.framework/Resources/bin/R CMD INSTALL tigre StartedAt: 2022-07-10 16:34:09 -0400 (Sun, 10 Jul 2022) EndedAt: 2022-07-10 16:35:01 -0400 (Sun, 10 Jul 2022) EllapsedTime: 51.9 seconds RetCode: 0 Status: OK