Package: tRNAscanImport Version: 1.18.0 Command: rm -rf tRNAscanImport.buildbin-libdir && mkdir tRNAscanImport.buildbin-libdir && /Users/biocbuild/BBS/utils/build-universal.sh tRNAscanImport_1.18.0.tar.gz /Library/Frameworks/R.framework/Resources/bin/R tRNAscanImport.buildbin-libdir StartedAt: 2023-04-11 00:09:36 -0400 (Tue, 11 Apr 2023) EndedAt: 2023-04-11 00:10:19 -0400 (Tue, 11 Apr 2023) EllapsedTime: 43.5 seconds RetCode: 0 Status: OK PackageFile: tRNAscanImport_1.18.0.tgz PackageFileSize: 838 KiB