Package: tRNA Version: 1.16.1 Command: /Library/Frameworks/R.framework/Resources/bin/R CMD check --install=check:tRNA.install-out.txt --library=/Library/Frameworks/R.framework/Resources/library --no-vignettes --timings tRNA_1.16.1.tar.gz StartedAt: 2023-04-10 23:11:49 -0400 (Mon, 10 Apr 2023) EndedAt: 2023-04-10 23:15:16 -0400 (Mon, 10 Apr 2023) EllapsedTime: 207.2 seconds RetCode: 0 Status: OK CheckDir: tRNA.Rcheck Warnings: 0