Package: tRNA Version: 1.15.0 Command: /Library/Frameworks/R.framework/Resources/bin/R CMD build --keep-empty-dirs --no-resave-data tRNA StartedAt: 2022-07-07 06:56:56 -0400 (Thu, 07 Jul 2022) EndedAt: 2022-07-07 06:59:48 -0400 (Thu, 07 Jul 2022) EllapsedTime: 172.2 seconds RetCode: 0 Status: OK PackageFile: tRNA_1.15.0.tar.gz PackageFileSize: 1.173 MiB