Package: systemPipeShiny Version: 1.8.1 Command: rm -rf systemPipeShiny.buildbin-libdir && mkdir systemPipeShiny.buildbin-libdir && F:\biocbuild\bbs-3.16-bioc\R\bin\R.exe CMD INSTALL --build --library=systemPipeShiny.buildbin-libdir systemPipeShiny_1.8.1.tar.gz StartedAt: 2023-04-11 08:53:16 -0400 (Tue, 11 Apr 2023) EndedAt: 2023-04-11 08:54:00 -0400 (Tue, 11 Apr 2023) EllapsedTime: 43.9 seconds RetCode: 0 Status: OK PackageFile: systemPipeShiny_1.8.1.zip PackageFileSize: 3.58 MiB