Package: systemPipeShiny Version: 1.8.1 Command: /home/biocbuild/bbs-3.16-bioc/R/bin/R CMD INSTALL systemPipeShiny StartedAt: 2023-04-10 15:34:44 -0400 (Mon, 10 Apr 2023) EndedAt: 2023-04-10 15:35:01 -0400 (Mon, 10 Apr 2023) EllapsedTime: 17.4 seconds RetCode: 0 Status: OK