Package: systemPipeShiny Version: 1.8.1 Command: /home/biocbuild/bbs-3.16-bioc/R/bin/R CMD build --keep-empty-dirs --no-resave-data systemPipeShiny StartedAt: 2023-04-10 18:24:42 -0400 (Mon, 10 Apr 2023) EndedAt: 2023-04-10 18:25:03 -0400 (Mon, 10 Apr 2023) EllapsedTime: 20.9 seconds RetCode: 0 Status: OK PackageFile: systemPipeShiny_1.8.1.tar.gz PackageFileSize: 4.287 MiB