Package: systemPipeShiny Version: 1.8.1 Command: /Library/Frameworks/R.framework/Resources/bin/R CMD INSTALL systemPipeShiny StartedAt: 2023-04-10 15:22:19 -0400 (Mon, 10 Apr 2023) EndedAt: 2023-04-10 15:22:37 -0400 (Mon, 10 Apr 2023) EllapsedTime: 18.0 seconds RetCode: 0 Status: OK