Package: systemPipeShiny Version: 1.8.1 Command: rm -rf systemPipeShiny.buildbin-libdir && mkdir systemPipeShiny.buildbin-libdir && /Users/biocbuild/BBS/utils/build-universal.sh systemPipeShiny_1.8.1.tar.gz /Library/Frameworks/R.framework/Resources/bin/R systemPipeShiny.buildbin-libdir StartedAt: 2023-04-11 00:08:12 -0400 (Tue, 11 Apr 2023) EndedAt: 2023-04-11 00:08:34 -0400 (Tue, 11 Apr 2023) EllapsedTime: 21.5 seconds RetCode: 0 Status: OK PackageFile: systemPipeShiny_1.8.1.tgz PackageFileSize: 3.557 MiB