Package: synlet Version: 1.28.0 Command: /home/biocbuild/bbs-3.16-bioc/R/bin/R CMD INSTALL synlet StartedAt: 2023-04-10 15:19:17 -0400 (Mon, 10 Apr 2023) EndedAt: 2023-04-10 15:19:29 -0400 (Mon, 10 Apr 2023) EllapsedTime: 11.4 seconds RetCode: 0 Status: OK