Package: synergyfinder Version: 3.6.3 Command: F:\biocbuild\bbs-3.16-bioc\R\bin\R.exe CMD INSTALL synergyfinder StartedAt: 2023-04-10 16:44:06 -0400 (Mon, 10 Apr 2023) EndedAt: 2023-04-10 16:44:21 -0400 (Mon, 10 Apr 2023) EllapsedTime: 14.2 seconds RetCode: 0 Status: OK