Package: synergyfinder Version: 3.6.3 Command: F:\biocbuild\bbs-3.16-bioc\R\bin\R.exe CMD check --no-multiarch --install=check:synergyfinder.install-out.txt --library=F:\biocbuild\bbs-3.16-bioc\R\library --no-vignettes --timings synergyfinder_3.6.3.tar.gz StartedAt: 2023-04-11 06:37:52 -0400 (Tue, 11 Apr 2023) EndedAt: 2023-04-11 06:39:34 -0400 (Tue, 11 Apr 2023) EllapsedTime: 102.8 seconds RetCode: 0 Status: WARNINGS CheckDir: synergyfinder.Rcheck Warnings: 1