Package: synergyfinder Version: 3.6.3 Command: chmod a+r synergyfinder -R && F:\biocbuild\bbs-3.16-bioc\R\bin\R.exe CMD build --keep-empty-dirs --no-resave-data synergyfinder StartedAt: 2023-04-10 22:00:34 -0400 (Mon, 10 Apr 2023) EndedAt: 2023-04-10 22:02:10 -0400 (Mon, 10 Apr 2023) EllapsedTime: 95.3 seconds RetCode: 0 Status: OK PackageFile: synergyfinder_3.6.3.tar.gz PackageFileSize: 6.041 MiB