Package: synergyfinder Version: 3.6.3 Command: /home/biocbuild/bbs-3.16-bioc/R/bin/R CMD INSTALL synergyfinder StartedAt: 2023-04-10 15:34:41 -0400 (Mon, 10 Apr 2023) EndedAt: 2023-04-10 15:34:50 -0400 (Mon, 10 Apr 2023) EllapsedTime: 8.0 seconds RetCode: 0 Status: OK