Package: synergyfinder Version: 3.6.3 Command: /home/biocbuild/bbs-3.16-bioc/R/bin/R CMD build --keep-empty-dirs --no-resave-data synergyfinder StartedAt: 2023-04-10 18:24:20 -0400 (Mon, 10 Apr 2023) EndedAt: 2023-04-10 18:25:44 -0400 (Mon, 10 Apr 2023) EllapsedTime: 84.0 seconds RetCode: 0 Status: OK PackageFile: synergyfinder_3.6.3.tar.gz PackageFileSize: 6.366 MiB