Package: synergyfinder Version: 3.5.1 Command: rm -rf synergyfinder.buildbin-libdir && mkdir synergyfinder.buildbin-libdir && /Users/biocbuild/BBS/utils/build-universal.sh synergyfinder_3.5.1.tar.gz /Library/Frameworks/R.framework/Resources/bin/R synergyfinder.buildbin-libdir StartedAt: 2022-07-07 09:19:25 -0400 (Thu, 07 Jul 2022) EndedAt: 2022-07-07 09:19:43 -0400 (Thu, 07 Jul 2022) EllapsedTime: 17.3 seconds RetCode: 0 Status: OK PackageFile: synergyfinder_3.5.1.tgz PackageFileSize: 3.687 MiB