Package: surfaltr Version: 1.4.0 Command: rm -rf surfaltr.buildbin-libdir && mkdir surfaltr.buildbin-libdir && F:\biocbuild\bbs-3.16-bioc\R\bin\R.exe CMD INSTALL --build --library=surfaltr.buildbin-libdir surfaltr_1.4.0.tar.gz StartedAt: 2023-04-11 08:52:34 -0400 (Tue, 11 Apr 2023) EndedAt: 2023-04-11 08:52:58 -0400 (Tue, 11 Apr 2023) EllapsedTime: 23.3 seconds RetCode: 0 Status: OK PackageFile: surfaltr_1.4.0.zip PackageFileSize: 1.828 MiB