Package: subSeq Version: 1.28.0 Command: /home/biocbuild/bbs-3.16-bioc/R/bin/R CMD INSTALL subSeq StartedAt: 2023-04-10 15:16:55 -0400 (Mon, 10 Apr 2023) EndedAt: 2023-04-10 15:17:01 -0400 (Mon, 10 Apr 2023) EllapsedTime: 5.6 seconds RetCode: 0 Status: OK