Package: statTarget Version: 1.28.0 Command: /home/biocbuild/bbs-3.16-bioc/R/bin/R CMD build --keep-empty-dirs --no-resave-data statTarget StartedAt: 2023-04-10 18:22:16 -0400 (Mon, 10 Apr 2023) EndedAt: 2023-04-10 18:22:24 -0400 (Mon, 10 Apr 2023) EllapsedTime: 9.0 seconds RetCode: 0 Status: OK PackageFile: statTarget_1.28.0.tar.gz PackageFileSize: 780.3 KiB