Package: sscore Version: 1.69.0 Command: /Library/Frameworks/R.framework/Resources/bin/R CMD INSTALL sscore StartedAt: 2022-07-10 15:33:13 -0400 (Sun, 10 Jul 2022) EndedAt: 2022-07-10 15:33:21 -0400 (Sun, 10 Jul 2022) EllapsedTime: 7.8 seconds RetCode: 0 Status: OK