Package: spicyR Version: 1.10.7 Command: F:\biocbuild\bbs-3.16-bioc\R\bin\R.exe CMD INSTALL spicyR StartedAt: 2023-04-10 15:58:05 -0400 (Mon, 10 Apr 2023) EndedAt: 2023-04-10 15:58:56 -0400 (Mon, 10 Apr 2023) EllapsedTime: 50.4 seconds RetCode: 0 Status: OK