Package: spatialHeatmap Version: 2.3.0 Command: /Library/Frameworks/R.framework/Resources/bin/R CMD INSTALL spatialHeatmap StartedAt: 2022-07-10 19:12:10 -0400 (Sun, 10 Jul 2022) EndedAt: 2022-07-10 19:15:49 -0400 (Sun, 10 Jul 2022) EllapsedTime: 218.4 seconds RetCode: 0 Status: OK