Package: sparseMatrixStats Version: 1.10.0 Command: F:\biocbuild\bbs-3.16-bioc\R\bin\R.exe CMD INSTALL sparseMatrixStats StartedAt: 2023-04-10 15:34:40 -0400 (Mon, 10 Apr 2023) EndedAt: 2023-04-10 15:35:39 -0400 (Mon, 10 Apr 2023) EllapsedTime: 59.3 seconds RetCode: 0 Status: OK