Package: snpStats Version: 1.48.0 Command: /Library/Frameworks/R.framework/Resources/bin/R CMD build --keep-empty-dirs --no-resave-data snpStats StartedAt: 2023-04-10 18:06:37 -0400 (Mon, 10 Apr 2023) EndedAt: 2023-04-10 18:08:07 -0400 (Mon, 10 Apr 2023) EllapsedTime: 89.3 seconds RetCode: 0 Status: OK PackageFile: snpStats_1.48.0.tar.gz PackageFileSize: 7.726 MiB