Package: snpStats Version: 1.48.0 Command: rm -rf snpStats.buildbin-libdir && mkdir snpStats.buildbin-libdir && /Users/biocbuild/BBS/utils/build-universal.sh snpStats_1.48.0.tar.gz /Library/Frameworks/R.framework/Resources/bin/R snpStats.buildbin-libdir StartedAt: 2023-04-11 00:06:14 -0400 (Tue, 11 Apr 2023) EndedAt: 2023-04-11 00:06:41 -0400 (Tue, 11 Apr 2023) EllapsedTime: 26.3 seconds RetCode: 0 Status: OK PackageFile: snpStats_1.48.0.tgz PackageFileSize: 8.529 MiB