Package: snm Version: 1.46.0 Command: rm -rf snm.buildbin-libdir && mkdir snm.buildbin-libdir && F:\biocbuild\bbs-3.16-bioc\R\bin\R.exe CMD INSTALL --build --library=snm.buildbin-libdir snm_1.46.0.tar.gz StartedAt: 2023-04-11 08:49:20 -0400 (Tue, 11 Apr 2023) EndedAt: 2023-04-11 08:49:30 -0400 (Tue, 11 Apr 2023) EllapsedTime: 10.1 seconds RetCode: 0 Status: OK PackageFile: snm_1.46.0.zip PackageFileSize: 456.9 KiB