Package: sesame Version: 1.16.1 Command: rm -rf sesame.buildbin-libdir && mkdir sesame.buildbin-libdir && F:\biocbuild\bbs-3.16-bioc\R\bin\R.exe CMD INSTALL --build --library=sesame.buildbin-libdir sesame_1.16.1.tar.gz StartedAt: 2023-04-11 08:46:51 -0400 (Tue, 11 Apr 2023) EndedAt: 2023-04-11 08:47:56 -0400 (Tue, 11 Apr 2023) EllapsedTime: 64.5 seconds RetCode: 0 Status: OK PackageFile: sesame_1.16.1.zip PackageFileSize: 18.8 MiB