Package: sesame Version: 1.16.1 Command: /home/biocbuild/bbs-3.16-bioc/R/bin/R CMD INSTALL sesame StartedAt: 2023-04-10 15:21:05 -0400 (Mon, 10 Apr 2023) EndedAt: 2023-04-10 15:21:45 -0400 (Mon, 10 Apr 2023) EllapsedTime: 40.4 seconds RetCode: 0 Status: OK