Package: sesame Version: 1.16.1 Command: /home/biocbuild/bbs-3.16-bioc/R/bin/R CMD check --install=check:sesame.install-out.txt --library=/home/biocbuild/bbs-3.16-bioc/R/site-library --timings sesame_1.16.1.tar.gz StartedAt: 2023-04-10 23:58:36 -0400 (Mon, 10 Apr 2023) EndedAt: 2023-04-11 00:17:24 -0400 (Tue, 11 Apr 2023) EllapsedTime: 1128.2 seconds RetCode: 0 Status: OK CheckDir: sesame.Rcheck Warnings: 0