Package: seqcombo Version: 1.20.0 Command: chmod a+r seqcombo -R && F:\biocbuild\bbs-3.16-bioc\R\bin\R.exe CMD build --keep-empty-dirs --no-resave-data seqcombo StartedAt: 2023-04-10 21:34:48 -0400 (Mon, 10 Apr 2023) EndedAt: 2023-04-10 21:35:09 -0400 (Mon, 10 Apr 2023) EllapsedTime: 21.7 seconds RetCode: 0 Status: OK PackageFile: seqcombo_1.20.0.tar.gz PackageFileSize: 686.1 KiB