Package: seqCAT Version: 1.20.0 Command: rm -rf seqCAT.buildbin-libdir && mkdir seqCAT.buildbin-libdir && F:\biocbuild\bbs-3.16-bioc\R\bin\R.exe CMD INSTALL --build --library=seqCAT.buildbin-libdir seqCAT_1.20.0.tar.gz StartedAt: 2023-04-11 08:46:25 -0400 (Tue, 11 Apr 2023) EndedAt: 2023-04-11 08:47:29 -0400 (Tue, 11 Apr 2023) EllapsedTime: 64.2 seconds RetCode: 0 Status: OK PackageFile: seqCAT_1.20.0.zip PackageFileSize: 1.86 MiB