Package: scuttle Version: 1.8.4 Command: rm -rf scuttle.buildbin-libdir && mkdir scuttle.buildbin-libdir && /Users/biocbuild/BBS/utils/build-universal.sh scuttle_1.8.4.tar.gz /Library/Frameworks/R.framework/Resources/bin/R scuttle.buildbin-libdir StartedAt: 2023-04-11 00:04:21 -0400 (Tue, 11 Apr 2023) EndedAt: 2023-04-11 00:05:56 -0400 (Tue, 11 Apr 2023) EllapsedTime: 95.2 seconds RetCode: 0 Status: OK PackageFile: scuttle_1.8.4.tgz PackageFileSize: 1.222 MiB