Package: scry Version: 1.10.0 Command: /home/biocbuild/bbs-3.16-bioc/R/bin/R CMD check --install=check:scry.install-out.txt --library=/home/biocbuild/bbs-3.16-bioc/R/site-library --timings scry_1.10.0.tar.gz StartedAt: 2023-04-10 23:52:43 -0400 (Mon, 10 Apr 2023) EndedAt: 2023-04-10 23:59:07 -0400 (Mon, 10 Apr 2023) EllapsedTime: 383.7 seconds RetCode: 0 Status: OK CheckDir: scry.Rcheck Warnings: 0