Package: schex Version: 1.12.0 Command: /Library/Frameworks/R.framework/Resources/bin/R CMD INSTALL schex StartedAt: 2023-04-10 15:20:49 -0400 (Mon, 10 Apr 2023) EndedAt: 2023-04-10 15:21:27 -0400 (Mon, 10 Apr 2023) EllapsedTime: 38.8 seconds RetCode: 0 Status: OK