Package: schex Version: 1.12.0 Command: /Library/Frameworks/R.framework/Resources/bin/R CMD check --install=check:schex.install-out.txt --library=/Library/Frameworks/R.framework/Resources/library --no-vignettes --timings schex_1.12.0.tar.gz StartedAt: 2023-04-10 22:30:10 -0400 (Mon, 10 Apr 2023) EndedAt: 2023-04-10 22:34:14 -0400 (Mon, 10 Apr 2023) EllapsedTime: 243.9 seconds RetCode: 0 Status: OK CheckDir: schex.Rcheck Warnings: 0