Package: scds Version: 1.14.0 Command: /Library/Frameworks/R.framework/Resources/bin/R CMD INSTALL scds StartedAt: 2023-04-10 15:12:34 -0400 (Mon, 10 Apr 2023) EndedAt: 2023-04-10 15:13:01 -0400 (Mon, 10 Apr 2023) EllapsedTime: 26.9 seconds RetCode: 0 Status: OK