Package: scatterHatch Version: 1.4.0 Command: /Library/Frameworks/R.framework/Resources/bin/R CMD check --install=check:scatterHatch.install-out.txt --library=/Library/Frameworks/R.framework/Resources/library --no-vignettes --timings scatterHatch_1.4.0.tar.gz StartedAt: 2023-04-10 22:28:01 -0400 (Mon, 10 Apr 2023) EndedAt: 2023-04-10 22:29:24 -0400 (Mon, 10 Apr 2023) EllapsedTime: 83.1 seconds RetCode: 0 Status: OK CheckDir: scatterHatch.Rcheck Warnings: 0