Package: scRecover Version: 1.14.1 Command: F:\biocbuild\bbs-3.16-bioc\R\bin\R.exe CMD check --no-multiarch --install=check:scRecover.install-out.txt --library=F:\biocbuild\bbs-3.16-bioc\R\library --no-vignettes --timings scRecover_1.14.1.tar.gz StartedAt: 2023-04-11 05:47:51 -0400 (Tue, 11 Apr 2023) EndedAt: 2023-04-11 05:49:47 -0400 (Tue, 11 Apr 2023) EllapsedTime: 116.2 seconds RetCode: 0 Status: OK CheckDir: scRecover.Rcheck Warnings: 0