Package: scRecover Version: 1.14.1 Command: chmod a+r scRecover -R && F:\biocbuild\bbs-3.16-bioc\R\bin\R.exe CMD build --keep-empty-dirs --no-resave-data scRecover StartedAt: 2023-04-10 21:29:11 -0400 (Mon, 10 Apr 2023) EndedAt: 2023-04-10 21:30:59 -0400 (Mon, 10 Apr 2023) EllapsedTime: 108.3 seconds RetCode: 0 Status: OK PackageFile: scRecover_1.14.1.tar.gz PackageFileSize: 1.699 MiB