Package: scRecover Version: 1.14.1 Command: /home/biocbuild/bbs-3.16-bioc/R/bin/R CMD check --install=check:scRecover.install-out.txt --library=/home/biocbuild/bbs-3.16-bioc/R/site-library --timings scRecover_1.14.1.tar.gz StartedAt: 2023-04-10 23:51:35 -0400 (Mon, 10 Apr 2023) EndedAt: 2023-04-10 23:55:01 -0400 (Mon, 10 Apr 2023) EllapsedTime: 206.1 seconds RetCode: 0 Status: OK CheckDir: scRecover.Rcheck Warnings: 0