Package: scRecover Version: 1.14.1 Command: /Library/Frameworks/R.framework/Resources/bin/R CMD INSTALL scRecover StartedAt: 2023-04-10 15:41:12 -0400 (Mon, 10 Apr 2023) EndedAt: 2023-04-10 15:41:25 -0400 (Mon, 10 Apr 2023) EllapsedTime: 12.6 seconds RetCode: 0 Status: OK