Package: scRecover Version: 1.14.1 Command: /Library/Frameworks/R.framework/Resources/bin/R CMD build --keep-empty-dirs --no-resave-data scRecover StartedAt: 2023-04-10 17:56:54 -0400 (Mon, 10 Apr 2023) EndedAt: 2023-04-10 17:58:34 -0400 (Mon, 10 Apr 2023) EllapsedTime: 99.6 seconds RetCode: 0 Status: OK PackageFile: scRecover_1.14.1.tar.gz PackageFileSize: 1.699 MiB