Package: scRecover Version: 1.13.0 Command: /Library/Frameworks/R.framework/Resources/bin/R CMD build --keep-empty-dirs --no-resave-data scRecover StartedAt: 2022-07-07 04:46:51 -0400 (Thu, 07 Jul 2022) EndedAt: 2022-07-07 04:48:54 -0400 (Thu, 07 Jul 2022) EllapsedTime: 122.9 seconds RetCode: 0 Status: OK PackageFile: scRecover_1.13.0.tar.gz PackageFileSize: 1.7 MiB