Package: scRecover Version: 1.13.0 Command: rm -rf scRecover.buildbin-libdir && mkdir scRecover.buildbin-libdir && /Users/biocbuild/BBS/utils/build-universal.sh scRecover_1.13.0.tar.gz /Library/Frameworks/R.framework/Resources/bin/R scRecover.buildbin-libdir StartedAt: 2022-07-07 09:06:54 -0400 (Thu, 07 Jul 2022) EndedAt: 2022-07-07 09:07:26 -0400 (Thu, 07 Jul 2022) EllapsedTime: 31.7 seconds RetCode: 0 Status: OK PackageFile: scRecover_1.13.0.tgz PackageFileSize: 1.153 MiB