Package: scMET Version: 1.0.0 Command: F:\biocbuild\bbs-3.16-bioc\R\bin\R.exe CMD INSTALL scMET StartedAt: 2023-04-10 15:51:07 -0400 (Mon, 10 Apr 2023) EndedAt: 2023-04-10 15:53:46 -0400 (Mon, 10 Apr 2023) EllapsedTime: 159.3 seconds RetCode: 0 Status: OK