Package: scMET Version: 1.0.0 Command: chmod a+r scMET -R && F:\biocbuild\bbs-3.16-bioc\R\bin\R.exe CMD build --keep-empty-dirs --no-resave-data scMET StartedAt: 2023-04-10 21:26:19 -0400 (Mon, 10 Apr 2023) EndedAt: 2023-04-10 21:30:44 -0400 (Mon, 10 Apr 2023) EllapsedTime: 265.0 seconds RetCode: 0 Status: OK PackageFile: scMET_1.0.0.tar.gz PackageFileSize: 2.402 MiB