Package: scMET Version: 1.0.0 Command: rm -rf scMET.buildbin-libdir && mkdir scMET.buildbin-libdir && F:\biocbuild\bbs-3.16-bioc\R\bin\R.exe CMD INSTALL --build --library=scMET.buildbin-libdir scMET_1.0.0.tar.gz StartedAt: 2023-04-11 08:44:52 -0400 (Tue, 11 Apr 2023) EndedAt: 2023-04-11 08:47:22 -0400 (Tue, 11 Apr 2023) EllapsedTime: 150.0 seconds RetCode: 0 Status: OK PackageFile: scMET_1.0.0.zip PackageFileSize: 3.381 MiB